BEGIN:VCALENDAR
VERSION:2.0
PRODID:-//ExhibitionMatches.com//NONSGML v1.0//EN
BEGIN:VEVENT
UID=6DC3D98E-CDBB-304E-6CDCC31FEACF51CE
DTSTAMP=20260424T012845Z
DTSTART;VALUE=DATE:20260602
DTEND;VALUE=DATE:20260605
SUMMARY:Stinger Wrestling Camp
LOCATION:Box Elder Middle School, 18 S 500 E, Brigham City, Brigham City, UT, 84302
DESCRIPTION:View full event details: https://wrestlingtournaments.org/view.cfm?ID=107042
Contact: Cody Storey jed.craner@besd.net
URL;VALUE=URI:https://wrestlingtournaments.org/view.cfm?ID=107042
END:VEVENT
END:VCALENDAR